BEGIN:VCALENDAR
VERSION:2.0
PRODID:SchoolNow
CALSCALE:GREGORIAN
BEGIN:VEVENT
UID:b644f470-1a42-11ec-8e71-023c3ac6aff1
DTSTAMP:20220607T181458Z
SUMMARY:Brandon ELAC #5
URL;VALUE=URI:https://www.gusd.us/brandon/calendar/2750925/brandon-elac-5
DTSTART:20220223T020000Z
DTEND:20220223T033000Z
END:VEVENT
END:VCALENDAR
