BEGIN:VCALENDAR
VERSION:2.0
PRODID:SchoolNow
CALSCALE:GREGORIAN
BEGIN:VEVENT
UID:10dd6c1c-1bd5-11ec-b107-023d236156cb
DTSTAMP:20220607T181458Z
SUMMARY:National Food Service Worker Appreciation
URL;VALUE=URI:https://www.gusd.us/brandon/calendar/2756423/national-food-se
 rvice-worker-appreciation
DTSTART;VALUE=DATE:20220925
DTEND;VALUE=DATE:20220926
END:VEVENT
END:VCALENDAR
