BEGIN:VCALENDAR
VERSION:2.0
PRODID:SchoolNow
CALSCALE:GREGORIAN
BEGIN:VEVENT
UID:1f71d986-388e-11ec-9f88-0a39fc92a38f
DTSTAMP:20220607T181458Z
SUMMARY:4th Grade Math Club
URL;VALUE=URI:https://www.gusd.us/brandon/calendar/2852776/4th-grade-math-c
 lub
DTSTART:20220510T143000Z
DTEND:20220510T151500Z
END:VEVENT
END:VCALENDAR
