BEGIN:VCALENDAR
VERSION:2.0
PRODID:SchoolNow
CALSCALE:GREGORIAN
BEGIN:VEVENT
UID:698acbee-9b6d-11ec-98f9-024083205361
DTSTAMP:20220607T181458Z
SUMMARY:National Food Service Worker Appreciation
URL;VALUE=URI:https://www.gusd.us/brandon/calendar/3123939/national-food-se
 rvice-worker-appreciation
DTSTART;VALUE=DATE:20230925
DTEND;VALUE=DATE:20230926
END:VEVENT
END:VCALENDAR
