BEGIN:VCALENDAR
VERSION:2.0
PRODID:SchoolNow
CALSCALE:GREGORIAN
BEGIN:VEVENT
UID:4f3e8d24-9f5b-11ec-8f6a-024083205361
DTSTAMP:20220607T181458Z
SUMMARY:Inside out/Mismatch Spirit Day
URL;VALUE=URI:https://www.gusd.us/brandon/calendar/3128238/inside-out-misma
 tch-spirit-day
DTSTART;VALUE=DATE:20220315
DTEND;VALUE=DATE:20220316
END:VEVENT
END:VCALENDAR
