BEGIN:VCALENDAR
VERSION:2.0
PRODID:SchoolNow
CALSCALE:GREGORIAN
BEGIN:VEVENT
UID:abba371e-a349-11ec-b26d-024083205361
DTSTAMP:20220607T181458Z
SUMMARY:Math SuperBowl
URL;VALUE=URI:https://www.gusd.us/brandon/calendar/3132342/math-superbowl
DTSTART:20220531T161500Z
DTEND:20220531T201500Z
END:VEVENT
END:VCALENDAR
