BEGIN:VCALENDAR
VERSION:2.0
PRODID:SchoolNow
CALSCALE:GREGORIAN
BEGIN:VEVENT
UID:b6bdb284-b074-11ec-94f1-0ea6cccd767f
DTSTAMP:20220607T181458Z
SUMMARY:6th Grade Promotion/Promoción de 6o Grado
URL;VALUE=URI:https://www.gusd.us/brandon/calendar/3148472/6th-grade-promot
 ion-promocion-de-6o-grado
DTSTART:20220601T154500Z
DTEND:20220601T164500Z
END:VEVENT
END:VCALENDAR
