BEGIN:VCALENDAR
VERSION:2.0
PRODID:SchoolNow
CALSCALE:GREGORIAN
BEGIN:VEVENT
UID:a606d26e-f9a8-11f0-ae9c-0a58a9feac02
DTSTAMP:20260419T142554Z
SUMMARY:National Food Service Worker Appreciation
URL;VALUE=URI:https://www.gusd.us/brandon/calendar/8840455/national-food-se
 rvice-worker-appreciation
DTSTART;VALUE=DATE:20270925
DTEND;VALUE=DATE:20270926
END:VEVENT
END:VCALENDAR
