BEGIN:VCALENDAR
VERSION:2.0
PRODID:SchoolNow
CALSCALE:GREGORIAN
BEGIN:VEVENT
UID:bff849b8-f4a0-11ef-8242-0a58a9feac02
DTSTAMP:20251216T154528Z
SUMMARY:School Photos
URL;VALUE=URI:https://www.gusd.us/foothill/calendar/7557155/school-photos
DTSTART:20250909T153000Z
DTEND:20250909T190000Z
END:VEVENT
END:VCALENDAR
