BEGIN:VCALENDAR
VERSION:2.0
PRODID:SchoolNow
CALSCALE:GREGORIAN
BEGIN:VEVENT
UID:bff84d14-f4a0-11ef-b40a-0a58a9feac02
DTSTAMP:20251216T154528Z
SUMMARY:School Photo Retakes
URL;VALUE=URI:https://www.gusd.us/foothill/calendar/7557156/school-photo-re
 takes
DTSTART:20251104T163000Z
DTEND:20251104T180000Z
END:VEVENT
END:VCALENDAR
