BEGIN:VCALENDAR
VERSION:2.0
PRODID:SchoolNow
CALSCALE:GREGORIAN
BEGIN:VEVENT
UID:bff84e72-f4a0-11ef-9426-0a58a9feac02
DTSTAMP:20251216T154528Z
SUMMARY:Boss's Day!
URL;VALUE=URI:https://www.gusd.us/foothill/calendar/7557157/bosss-day
DTSTART;VALUE=DATE:20261016
DTEND;VALUE=DATE:20261017
END:VEVENT
END:VCALENDAR
