BEGIN:VCALENDAR
VERSION:2.0
PRODID:SchoolNow
CALSCALE:GREGORIAN
BEGIN:VEVENT
UID:3017136c-002e-11f0-bdcc-02393a7ce2c7
DTSTAMP:20251216T154528Z
SUMMARY:Foothill Carnival
URL;VALUE=URI:https://www.gusd.us/foothill/calendar/7675285/foothill-carniv
 al
DTSTART:20251010T220000Z
DTEND:20251011T010000Z
END:VEVENT
END:VCALENDAR
