BEGIN:VCALENDAR
VERSION:2.0
PRODID:SchoolNow
CALSCALE:GREGORIAN
BEGIN:VEVENT
UID:e1251410-2e32-11f0-8b85-0a58a9feac02
DTSTAMP:20251216T154528Z
SUMMARY:First Day of School
URL;VALUE=URI:https://www.gusd.us/foothill/calendar/8108739/first-day-of-sc
 hool
DTSTART;VALUE=DATE:20250820
DTEND;VALUE=DATE:20250821
END:VEVENT
END:VCALENDAR
