BEGIN:VCALENDAR
VERSION:2.0
PRODID:SchoolNow
CALSCALE:GREGORIAN
BEGIN:VEVENT
UID:fa96f8b6-4be0-11f0-9aed-02da350a9661
DTSTAMP:20251216T154528Z
SUMMARY:Classroom Meet and Greet
URL;VALUE=URI:https://www.gusd.us/foothill/calendar/8321472/classroom-meet-
 and-greet
DTSTART:20250819T210000Z
DTEND:20250819T220000Z
END:VEVENT
END:VCALENDAR
