BEGIN:VCALENDAR
VERSION:2.0
PRODID:SchoolNow
CALSCALE:GREGORIAN
BEGIN:VEVENT
UID:fa96fc12-4be0-11f0-959f-02da350a9661
DTSTAMP:20251216T154528Z
SUMMARY:First Day PTA Coffee on the Curb
URL;VALUE=URI:https://www.gusd.us/foothill/calendar/8321473/first-day-pta-c
 offee-on-the-curb
DTSTART:20250820T144500Z
DTEND:20250820T154500Z
END:VEVENT
END:VCALENDAR
