BEGIN:VCALENDAR
VERSION:2.0
PRODID:SchoolNow
CALSCALE:GREGORIAN
BEGIN:VEVENT
UID:fa96ff50-4be0-11f0-9345-02da350a9661
DTSTAMP:20251216T154528Z
SUMMARY:GUSD Minimum Day
URL;VALUE=URI:https://www.gusd.us/foothill/calendar/8321476/gusd-minimum-da
 y
DTSTART:20251009T190000Z
DTEND:20251009T230000Z
END:VEVENT
END:VCALENDAR
