BEGIN:VCALENDAR
VERSION:2.0
PRODID:SchoolNow
CALSCALE:GREGORIAN
BEGIN:VEVENT
UID:fa970126-4be0-11f0-a532-02da350a9661
DTSTAMP:20251216T154528Z
SUMMARY:FH/GFS Science Night
URL;VALUE=URI:https://www.gusd.us/foothill/calendar/8321478/fh-gfs-science-
 night
DTSTART:20251107T013000Z
DTEND:20251107T030000Z
END:VEVENT
END:VCALENDAR
