BEGIN:VCALENDAR
VERSION:2.0
PRODID:SchoolNow
CALSCALE:GREGORIAN
BEGIN:VEVENT
UID:fa97020c-4be0-11f0-b6a9-02da350a9661
DTSTAMP:20251216T154528Z
SUMMARY:Parent/Teacher Conferences:  12:00 Dismissal
URL;VALUE=URI:https://www.gusd.us/foothill/calendar/8321479/parent-teacher-
 conferences-12-00-dismissal
DTSTART;VALUE=DATE:20251117
DTEND;VALUE=DATE:20251122
END:VEVENT
END:VCALENDAR
