BEGIN:VCALENDAR
VERSION:2.0
PRODID:SchoolNow
CALSCALE:GREGORIAN
BEGIN:VEVENT
UID:fa9702f2-4be0-11f0-baa3-02da350a9661
DTSTAMP:20251216T154528Z
SUMMARY:Winter Break
URL;VALUE=URI:https://www.gusd.us/foothill/calendar/8321480/winter-break
DTSTART;VALUE=DATE:20251222
DTEND;VALUE=DATE:20260103
END:VEVENT
END:VCALENDAR
