BEGIN:VCALENDAR
VERSION:2.0
PRODID:SchoolNow
CALSCALE:GREGORIAN
BEGIN:VEVENT
UID:fa9703d8-4be0-11f0-8f3e-02da350a9661
DTSTAMP:20251216T154528Z
SUMMARY:Great Kindness Challenge
URL;VALUE=URI:https://www.gusd.us/foothill/calendar/8321481/great-kindness-
 challenge
DTSTART;VALUE=DATE:20260126
DTEND;VALUE=DATE:20260131
END:VEVENT
END:VCALENDAR
