BEGIN:VCALENDAR
VERSION:2.0
PRODID:SchoolNow
CALSCALE:GREGORIAN
BEGIN:VEVENT
UID:fa9704be-4be0-11f0-b4b7-02da350a9661
DTSTAMP:20251216T154528Z
SUMMARY:Student Minimum Day:  12:00 Dismissal
URL;VALUE=URI:https://www.gusd.us/foothill/calendar/8321482/student-minimum
 -day-12-00-dismissal
DTSTART:20260129T200000Z
DTEND:20260130T000000Z
END:VEVENT
END:VCALENDAR
