BEGIN:VCALENDAR
VERSION:2.0
PRODID:SchoolNow
CALSCALE:GREGORIAN
BEGIN:VEVENT
UID:fa970680-4be0-11f0-a2b4-02da350a9661
DTSTAMP:20251216T154528Z
SUMMARY:Jog-a-thon/Move-a-thon
URL;VALUE=URI:https://www.gusd.us/foothill/calendar/8321484/jog-a-thon-move
 -a-thon
DTSTART;VALUE=DATE:20260313
DTEND;VALUE=DATE:20260314
END:VEVENT
END:VCALENDAR
