BEGIN:VCALENDAR
VERSION:2.0
PRODID:SchoolNow
CALSCALE:GREGORIAN
BEGIN:VEVENT
UID:fa970928-4be0-11f0-8c71-02da350a9661
DTSTAMP:20251216T154528Z
SUMMARY:Mini- Madonnari
URL;VALUE=URI:https://www.gusd.us/foothill/calendar/8321487/mini-madonnari
DTSTART:20260506T220000Z
DTEND:20260506T233000Z
END:VEVENT
END:VCALENDAR
