BEGIN:VCALENDAR
VERSION:2.0
PRODID:SchoolNow
CALSCALE:GREGORIAN
BEGIN:VEVENT
UID:fa970a0e-4be0-11f0-b4cc-02da350a9661
DTSTAMP:20251216T154528Z
SUMMARY:Walk/Bike to School Day
URL;VALUE=URI:https://www.gusd.us/foothill/calendar/8321488/walk-bike-to-sc
 hool-day
DTSTART;VALUE=DATE:20260506
DTEND;VALUE=DATE:20260507
END:VEVENT
END:VCALENDAR
