BEGIN:VCALENDAR
VERSION:2.0
PRODID:SchoolNow
CALSCALE:GREGORIAN
BEGIN:VEVENT
UID:fa970aea-4be0-11f0-b85b-02da350a9661
DTSTAMP:20251216T154528Z
SUMMARY:Teacher Appreciation luncheon
URL;VALUE=URI:https://www.gusd.us/foothill/calendar/8321489/teacher-appreci
 ation-luncheon
DTSTART;VALUE=DATE:20260506
DTEND;VALUE=DATE:20260507
END:VEVENT
END:VCALENDAR
