BEGIN:VCALENDAR
VERSION:2.0
PRODID:SchoolNow
CALSCALE:GREGORIAN
BEGIN:VEVENT
UID:fa970bd0-4be0-11f0-a066-02da350a9661
DTSTAMP:20251216T154528Z
SUMMARY:Open House
URL;VALUE=URI:https://www.gusd.us/foothill/calendar/8321490/open-house
DTSTART:20260508T003000Z
DTEND:20260508T020000Z
END:VEVENT
END:VCALENDAR
