BEGIN:VCALENDAR
VERSION:2.0
PRODID:SchoolNow
CALSCALE:GREGORIAN
BEGIN:VEVENT
UID:fa970cac-4be0-11f0-a704-02da350a9661
DTSTAMP:20251216T154528Z
SUMMARY:Last Day of School -12:00 Dismissal
URL;VALUE=URI:https://www.gusd.us/foothill/calendar/8321491/last-day-of-sch
 ool-12-00-dismissal
DTSTART;VALUE=DATE:20260604
DTEND;VALUE=DATE:20260605
END:VEVENT
END:VCALENDAR
