BEGIN:VCALENDAR
VERSION:2.0
PRODID:SchoolNow
CALSCALE:GREGORIAN
BEGIN:VEVENT
UID:fa970d7e-4be0-11f0-85ba-02da350a9661
DTSTAMP:20251216T154528Z
SUMMARY:Veteran's Day:  No School
URL;VALUE=URI:https://www.gusd.us/foothill/calendar/8321492/veterans-day-no
 -school
DTSTART;VALUE=DATE:20251111
DTEND;VALUE=DATE:20251112
END:VEVENT
END:VCALENDAR
