BEGIN:VCALENDAR
VERSION:2.0
PRODID:SchoolNow
CALSCALE:GREGORIAN
BEGIN:VEVENT
UID:fa9711fc-4be0-11f0-80f4-02da350a9661
DTSTAMP:20251216T154528Z
SUMMARY:School Spirit Day:  Onesie/Pajama Day
URL;VALUE=URI:https://www.gusd.us/foothill/calendar/8321497/school-spirit-d
 ay-onesie-pajama-day
DTSTART;VALUE=DATE:20251205
DTEND;VALUE=DATE:20251206
END:VEVENT
END:VCALENDAR
