BEGIN:VCALENDAR
VERSION:2.0
PRODID:SchoolNow
CALSCALE:GREGORIAN
BEGIN:VEVENT
UID:fa971436-4be0-11f0-8d5b-02da350a9661
DTSTAMP:20251216T154528Z
SUMMARY:School Spirit Day:  Career Day
URL;VALUE=URI:https://www.gusd.us/foothill/calendar/8321499/school-spirit-d
 ay-career-day
DTSTART;VALUE=DATE:20260206
DTEND;VALUE=DATE:20260207
END:VEVENT
END:VCALENDAR
