BEGIN:VCALENDAR
VERSION:2.0
PRODID:SchoolNow
CALSCALE:GREGORIAN
BEGIN:VEVENT
UID:fa971512-4be0-11f0-a6f4-02da350a9661
DTSTAMP:20251216T154528Z
SUMMARY:School Spirit Day:  Wacky Socks and Mismatch Day
URL;VALUE=URI:https://www.gusd.us/foothill/calendar/8321500/school-spirit-d
 ay-wacky-socks-and-mismatch-day
DTSTART;VALUE=DATE:20260306
DTEND;VALUE=DATE:20260307
END:VEVENT
END:VCALENDAR
