BEGIN:VCALENDAR
VERSION:2.0
PRODID:SchoolNow
CALSCALE:GREGORIAN
BEGIN:VEVENT
UID:fa97195e-4be0-11f0-aaab-02da350a9661
DTSTAMP:20251216T154528Z
SUMMARY:School Spirit Day
URL;VALUE=URI:https://www.gusd.us/foothill/calendar/8321505/school-spirit-d
 ay
DTSTART;VALUE=DATE:20260807
DTEND;VALUE=DATE:20260808
END:VEVENT
END:VCALENDAR
