BEGIN:VCALENDAR
VERSION:2.0
PRODID:SchoolNow
CALSCALE:GREGORIAN
BEGIN:VEVENT
UID:fa971bde-4be0-11f0-b99c-02da350a9661
DTSTAMP:20251216T154528Z
SUMMARY:School Spirit Day
URL;VALUE=URI:https://www.gusd.us/foothill/calendar/8321508/school-spirit-d
 ay
DTSTART;VALUE=DATE:20261106
DTEND;VALUE=DATE:20261107
END:VEVENT
END:VCALENDAR
