BEGIN:VCALENDAR
VERSION:2.0
PRODID:SchoolNow
CALSCALE:GREGORIAN
BEGIN:VEVENT
UID:fa971cba-4be0-11f0-b52f-02da350a9661
DTSTAMP:20251216T154528Z
SUMMARY:School Spirit Day
URL;VALUE=URI:https://www.gusd.us/foothill/calendar/8321509/school-spirit-d
 ay
DTSTART;VALUE=DATE:20261204
DTEND;VALUE=DATE:20261205
END:VEVENT
END:VCALENDAR
