BEGIN:VCALENDAR
VERSION:2.0
PRODID:SchoolNow
CALSCALE:GREGORIAN
BEGIN:VEVENT
UID:a6dbb3b8-6e88-11f0-aa85-0a58a9feac02
DTSTAMP:20251216T154528Z
SUMMARY:BTSN
URL;VALUE=URI:https://www.gusd.us/foothill/calendar/8462439/btsn
DTSTART:20250905T000000Z
DTEND:20250905T013000Z
END:VEVENT
END:VCALENDAR
