BEGIN:VCALENDAR
VERSION:2.0
PRODID:SchoolNow
CALSCALE:GREGORIAN
BEGIN:VEVENT
UID:a6dbb82c-6e88-11f0-a32e-0a58a9feac02
DTSTAMP:20251216T154528Z
SUMMARY:School Spirit Day
URL;VALUE=URI:https://www.gusd.us/foothill/calendar/8462440/school-spirit-d
 ay
DTSTART;VALUE=DATE:20270305
DTEND;VALUE=DATE:20270306
END:VEVENT
END:VCALENDAR
