BEGIN:VCALENDAR
VERSION:2.0
PRODID:SchoolNow
CALSCALE:GREGORIAN
BEGIN:VEVENT
UID:8a34e244-7251-11f0-aab4-0a58a9feac02
DTSTAMP:20251216T154528Z
SUMMARY:School Spirit Day
URL;VALUE=URI:https://www.gusd.us/foothill/calendar/8473833/school-spirit-d
 ay
DTSTART;VALUE=DATE:20270402
DTEND;VALUE=DATE:20270403
END:VEVENT
END:VCALENDAR
