BEGIN:VCALENDAR
VERSION:2.0
PRODID:SchoolNow
CALSCALE:GREGORIAN
BEGIN:VEVENT
UID:2303cdf4-78b1-11f0-8b56-0a58a9feac02
DTSTAMP:20251216T154528Z
SUMMARY:Labor Day-School Closed
URL;VALUE=URI:https://www.gusd.us/foothill/calendar/8506437/labor-day-schoo
 l-closed
DTSTART;VALUE=DATE:20250901
DTEND;VALUE=DATE:20250902
END:VEVENT
END:VCALENDAR
