BEGIN:VCALENDAR
VERSION:2.0
PRODID:SchoolNow
CALSCALE:GREGORIAN
BEGIN:VEVENT
UID:c9f6464c-7fa9-11f0-ae30-0a58a9feac02
DTSTAMP:20251216T154528Z
SUMMARY:Summer Reading Logs Due
URL;VALUE=URI:https://www.gusd.us/foothill/calendar/8534061/summer-reading-
 logs-due
DTSTART;VALUE=DATE:20250827
DTEND;VALUE=DATE:20250828
END:VEVENT
END:VCALENDAR
