BEGIN:VCALENDAR
VERSION:2.0
PRODID:SchoolNow
CALSCALE:GREGORIAN
BEGIN:VEVENT
UID:c18283be-8075-11f0-99e9-0a58a9feac02
DTSTAMP:20251216T154528Z
SUMMARY:School Spirit Day
URL;VALUE=URI:https://www.gusd.us/foothill/calendar/8536486/school-spirit-d
 ay
DTSTART:20260522T143000Z
DTEND:20260522T153000Z
END:VEVENT
END:VCALENDAR
