BEGIN:VCALENDAR
VERSION:2.0
PRODID:SchoolNow
CALSCALE:GREGORIAN
BEGIN:VEVENT
UID:a16b8296-82a6-11f0-9642-0a58a9feac02
DTSTAMP:20251216T154528Z
SUMMARY:BTSN Foothill
URL;VALUE=URI:https://www.gusd.us/foothill/calendar/8546043/btsn-foothill
DTSTART:20250905T000000Z
DTEND:20250905T013000Z
END:VEVENT
END:VCALENDAR
