BEGIN:VCALENDAR
VERSION:2.0
PRODID:SchoolNow
CALSCALE:GREGORIAN
BEGIN:VEVENT
UID:74b5e0fa-850a-11f0-90f2-0e1334b9292f
DTSTAMP:20251216T154528Z
SUMMARY:Movie Night-Sponsored by Foothill PTA
URL;VALUE=URI:https://www.gusd.us/foothill/calendar/8558879/movie-night-spo
 nsored-by-foothill-pta
DTSTART:20250927T010000Z
DTEND:20250927T040000Z
END:VEVENT
END:VCALENDAR
