BEGIN:VCALENDAR
VERSION:2.0
PRODID:SchoolNow
CALSCALE:GREGORIAN
BEGIN:VEVENT
UID:48c4d95a-883a-11f0-afb3-0a58a9feac02
DTSTAMP:20251216T154528Z
SUMMARY:Walk \, Bike\, Roll to School day
URL;VALUE=URI:https://www.gusd.us/foothill/calendar/8571387/walk-bike-roll-
 to-school-day
DTSTART:20251008T143000Z
DTEND:20251008T153000Z
END:VEVENT
END:VCALENDAR
