BEGIN:VCALENDAR
VERSION:2.0
PRODID:SchoolNow
CALSCALE:GREGORIAN
BEGIN:VEVENT
UID:11a1f79c-8c03-11f0-ab55-0affe204e2ef
DTSTAMP:20251216T154528Z
SUMMARY:School Spirit Day:  Country Farm Day
URL;VALUE=URI:https://www.gusd.us/foothill/calendar/8590597/school-spirit-d
 ay-country-farm-day
DTSTART;VALUE=DATE:20260109
DTEND;VALUE=DATE:20260110
END:VEVENT
END:VCALENDAR
