BEGIN:VCALENDAR
VERSION:2.0
PRODID:SchoolNow
CALSCALE:GREGORIAN
BEGIN:VEVENT
UID:11a1fc88-8c03-11f0-a085-0affe204e2ef
DTSTAMP:20251216T154528Z
SUMMARY:School Spirit Day
URL;VALUE=URI:https://www.gusd.us/foothill/calendar/8590598/school-spirit-d
 ay
DTSTART;VALUE=DATE:20270507
DTEND;VALUE=DATE:20270508
END:VEVENT
END:VCALENDAR
