BEGIN:VCALENDAR
VERSION:2.0
PRODID:SchoolNow
CALSCALE:GREGORIAN
BEGIN:VEVENT
UID:14ac0f12-8c36-11f0-aa5b-0a58a9feac02
DTSTAMP:20251216T154528Z
SUMMARY:TK/K Family Picnic
URL;VALUE=URI:https://www.gusd.us/foothill/calendar/8591439/tk-k-family-pic
 nic
DTSTART:20250911T000000Z
DTEND:20250911T013000Z
END:VEVENT
END:VCALENDAR
