BEGIN:VCALENDAR
VERSION:2.0
PRODID:SchoolNow
CALSCALE:GREGORIAN
BEGIN:VEVENT
UID:eded72bc-8f32-11f0-96a9-0efac1163ced
DTSTAMP:20251216T154528Z
SUMMARY:PTA Coffee on the Curb
URL;VALUE=URI:https://www.gusd.us/foothill/calendar/8609342/pta-coffee-on-t
 he-curb
DTSTART;VALUE=DATE:20251003
DTEND;VALUE=DATE:20251004
END:VEVENT
END:VCALENDAR
