BEGIN:VCALENDAR
VERSION:2.0
PRODID:SchoolNow
CALSCALE:GREGORIAN
BEGIN:VEVENT
UID:e8d5a924-8f65-11f0-9643-0a58a9feac02
DTSTAMP:20251216T154528Z
SUMMARY:PTA Coffee on the Curb (2nd)
URL;VALUE=URI:https://www.gusd.us/foothill/calendar/8610883/pta-coffee-on-t
 he-curb-2nd
DTSTART;VALUE=DATE:20251107
DTEND;VALUE=DATE:20251108
END:VEVENT
END:VCALENDAR
