BEGIN:VCALENDAR
VERSION:2.0
PRODID:SchoolNow
CALSCALE:GREGORIAN
BEGIN:VEVENT
UID:baba4cf8-932e-11f0-8027-0afffcc2dcf7
DTSTAMP:20251216T154528Z
SUMMARY:Dental Screening
URL;VALUE=URI:https://www.gusd.us/foothill/calendar/8629475/dental-screenin
 g
DTSTART:20250917T153000Z
DTEND:20250917T193000Z
END:VEVENT
END:VCALENDAR
