BEGIN:VCALENDAR
VERSION:2.0
PRODID:SchoolNow
CALSCALE:GREGORIAN
BEGIN:VEVENT
UID:5ac2d40e-9a5a-11f0-81c8-0a58a9feac02
DTSTAMP:20251216T154528Z
SUMMARY:Summer Reading Assembly - Bowl
URL;VALUE=URI:https://www.gusd.us/foothill/calendar/8664469/summer-reading-
 assembly-bowl
DTSTART:20250925T210000Z
DTEND:20250925T214500Z
END:VEVENT
END:VCALENDAR
